BEGIN:VCALENDAR
VERSION:2.0
PRODID:-//Molokoï - ECPv6.15.20//NONSGML v1.0//EN
CALSCALE:GREGORIAN
METHOD:PUBLISH
X-ORIGINAL-URL:https://molokoi.com
X-WR-CALDESC:Évènements pour Molokoï
REFRESH-INTERVAL;VALUE=DURATION:PT1H
X-Robots-Tag:noindex
X-PUBLISHED-TTL:PT1H
BEGIN:VTIMEZONE
TZID:America/Guadeloupe
BEGIN:STANDARD
TZOFFSETFROM:-0400
TZOFFSETTO:-0400
TZNAME:AST
DTSTART:20220101T000000
END:STANDARD
END:VTIMEZONE
BEGIN:VEVENT
DTSTART;TZID=America/Guadeloupe:20231024T120000
DTEND;TZID=America/Guadeloupe:20231024T150000
DTSTAMP:20260424T080140
CREATED:20231013T162226Z
LAST-MODIFIED:20241127T153048Z
UID:5152-1698148800-1698159600@molokoi.com
SUMMARY:Atelier Fresque de l'économie circulaire
DESCRIPTION:[vc_row type=”in_container” full_screen_row_position=”middle” column_margin=”default” column_direction=”default” column_direction_tablet=”default” column_direction_phone=”default” scene_position=”center” text_color=”dark” text_align=”left” row_border_radius=”none” row_border_radius_applies=”bg” overflow=”visible” overlay_strength=”0.3″ gradient_direction=”left_to_right” shape_divider_position=”bottom” bg_image_animation=”none” source=”media_library” image=”4669″ img_size=”full” external_img_size=”” add_caption=”yes” alignment=”center” style=”” external_style=”” border_color=”grey” external_border_color=”grey” onclick=”custom_link” img_link_target=”_self” link=”/la-fresque-du-climat/” title=”” custom_src=”” caption=”” img_link_large=””][vc_column column_padding=”no-extra-padding” column_padding_tablet=”inherit” column_padding_phone=”inherit” column_padding_position=”all” column_element_direction_desktop=”default” column_element_spacing=”default” desktop_text_alignment=”default” tablet_text_alignment=”default” phone_text_alignment=”default” background_color_opacity=”1″ background_hover_color_opacity=”1″ column_backdrop_filter=”none” column_shadow=”none” column_border_radius=”none” column_link_target=”_self” column_position=”default” gradient_direction=”left_to_right” overlay_strength=”0.3″ width=”1/1″ tablet_width_inherit=”default” animation_type=”default” bg_image_animation=”none” border_type=”simple” column_border_width=”none” column_border_style=”solid”][image_with_animation image_url=”4812″ image_size=”full” animation_type=”entrance” animation=”None” animation_movement_type=”transform_y” hover_animation=”none” alignment=”center” border_radius=”none” box_shadow=”none” image_loading=”default” max_width=”100%” max_width_mobile=”default” img_link=”https://molokoi.com/la-fresque-du-climat/”][vc_column_text css=”” text_direction=”default”]\nVENEZ DECOUVRIR LA FRESQUE DE L’ECONOMIE CIRCULAIRE !\n[/vc_column_text][vc_column_text][/vc_column_text][divider line_type=”Full Width Line” line_thickness=”1″ divider_color=”default”][/vc_column][/vc_row][vc_row type=”in_container” full_screen_row_position=”middle” column_margin=”default” column_direction=”default” column_direction_tablet=”default” column_direction_phone=”default” scene_position=”center” text_color=”dark” text_align=”left” row_border_radius=”none” row_border_radius_applies=”bg” overflow=”visible” overlay_strength=”0.3″ gradient_direction=”left_to_right” shape_divider_position=”bottom” bg_image_animation=”none”][vc_column column_padding=”no-extra-padding” column_padding_tablet=”inherit” column_padding_phone=”inherit” column_padding_position=”all” column_element_direction_desktop=”default” column_element_spacing=”default” desktop_text_alignment=”default” tablet_text_alignment=”default” phone_text_alignment=”default” background_color_opacity=”1″ background_hover_color_opacity=”1″ column_backdrop_filter=”none” column_shadow=”none” column_border_radius=”none” column_link_target=”_self” column_position=”default” gradient_direction=”left_to_right” overlay_strength=”0.3″ width=”1/1″ tablet_width_inherit=”default” animation_type=”default” bg_image_animation=”none” border_type=”simple” column_border_width=”none” column_border_style=”solid”][vc_column_text][/vc_column_text][vc_column_text]La Fresque de l’Économie Circulaire est un atelier d’intelligence collective\, ludique et scientifique\, pour saisir les limites de notre économie linéaire et comprendre les opportunités offertes par l’économie circulaire. \nUn changement de paradigme qui remet au centre la question de l’utilisation des ressources naturelles ainsi que la gestion des externalités\, déchets et pollutions\, produites par nos modes de vie. \nVenez découvrir des modèles plus vertueux\, économes en ressources naturelles et moins producteurs de déchets qui permettent de “circulariser” notre système ! \n  \n>Atelier en ligne animé depuis les Antilles \n>Billetterie: Fresque Circulaire  \n> Nombre de places limité[/vc_column_text][/vc_column][vc_column column_padding=”no-extra-padding” column_padding_tablet=”inherit” column_padding_phone=”inherit” column_padding_position=”all” column_element_direction_desktop=”default” column_element_spacing=”default” desktop_text_alignment=”default” tablet_text_alignment=”default” phone_text_alignment=”default” background_color_opacity=”1″ background_hover_color_opacity=”1″ column_backdrop_filter=”none” column_shadow=”none” column_border_radius=”none” column_link_target=”_self” column_position=”default” gradient_direction=”left_to_right” overlay_strength=”0.3″ width=”1/1″ tablet_width_inherit=”default” animation_type=”default” bg_image_animation=”none” border_type=”simple” column_border_width=”none” column_border_style=”solid”][/vc_column][/vc_row]
URL:https://molokoi.com/evenement/atelier-fresque-de-leconomie-circulaire/
LOCATION:En ligne
END:VEVENT
END:VCALENDAR