BEGIN:VCALENDAR
VERSION:2.0
PRODID:-//Molokoï - ECPv6.15.16.1//NONSGML v1.0//EN
CALSCALE:GREGORIAN
METHOD:PUBLISH
X-ORIGINAL-URL:https://molokoi.com
X-WR-CALDESC:Évènements pour Molokoï
REFRESH-INTERVAL;VALUE=DURATION:PT1H
X-Robots-Tag:noindex
X-PUBLISHED-TTL:PT1H
BEGIN:VTIMEZONE
TZID:America/Guadeloupe
BEGIN:STANDARD
TZOFFSETFROM:-0400
TZOFFSETTO:-0400
TZNAME:AST
DTSTART:20240101T000000
END:STANDARD
END:VTIMEZONE
BEGIN:VEVENT
DTSTART;TZID=America/Guadeloupe:20250611T090000
DTEND;TZID=America/Guadeloupe:20250611T100000
DTSTAMP:20260420T165507
CREATED:20250515T202116Z
LAST-MODIFIED:20250515T202314Z
UID:5135-1749632400-1749636000@molokoi.com
SUMMARY:Bilan carbone\, mode d'emploi
DESCRIPTION:[vc_row type=”in_container” full_screen_row_position=”middle” column_margin=”default” column_direction=”default” column_direction_tablet=”default” column_direction_phone=”default” scene_position=”center” text_color=”dark” text_align=”left” row_border_radius=”none” row_border_radius_applies=”bg” overflow=”visible” overlay_strength=”0.3″ gradient_direction=”left_to_right” shape_divider_position=”bottom” bg_image_animation=”none”][vc_column column_padding=”no-extra-padding” column_padding_tablet=”inherit” column_padding_phone=”inherit” column_padding_position=”all” column_element_direction_desktop=”default” column_element_spacing=”default” desktop_text_alignment=”default” tablet_text_alignment=”default” phone_text_alignment=”default” background_color_opacity=”1″ background_hover_color_opacity=”1″ column_backdrop_filter=”none” column_shadow=”none” column_border_radius=”none” column_link_target=”_self” column_position=”default” gradient_direction=”left_to_right” overlay_strength=”0.3″ width=”1/1″ tablet_width_inherit=”default” animation_type=”default” bg_image_animation=”none” border_type=”simple” column_border_width=”none” column_border_style=”solid”][vc_column_text css=”” text_direction=”default”]\nLe bilan carbone est un outil incontournable pour mesurer vos émissions de gaz à effet de serre\, identifier vos principaux postes d’émissions et construire un plan d’action crédible. \nLors de ce webinaire animé par nos experts\, nous aborderons : \n\nQu’est qu’un bilan carbone et pourquoi le réaliser ?\nQuelles sont les ressources à mobiliser ? (humaines\, financières)\nComment financer votre bilan carbone ?\nComment se préparer en interne ?\n\n  \n📅 Date : mercredi 11 juin 2025🕘 Horaire : 9h00 (heure de Guadeloupe)💻 En ligne – lien transmis après inscription🎟️ Gratuit – Inscription obligatoire \n[/vc_column_text][/vc_column][/vc_row][vc_row type=”in_container” full_screen_row_position=”middle” column_margin=”default” column_direction=”default” column_direction_tablet=”default” column_direction_phone=”default” scene_position=”center” text_color=”dark” text_align=”left” row_border_radius=”none” row_border_radius_applies=”bg” overflow=”visible” overlay_strength=”0.3″ gradient_direction=”left_to_right” shape_divider_position=”bottom” bg_image_animation=”none”][vc_column column_padding=”no-extra-padding” column_padding_tablet=”inherit” column_padding_phone=”inherit” column_padding_position=”all” column_element_direction_desktop=”default” column_element_spacing=”default” desktop_text_alignment=”default” tablet_text_alignment=”default” phone_text_alignment=”default” background_color_opacity=”1″ background_hover_color_opacity=”1″ column_backdrop_filter=”none” column_shadow=”none” column_border_radius=”none” column_link_target=”_self” column_position=”default” gradient_direction=”left_to_right” overlay_strength=”0.3″ width=”1/1″ tablet_width_inherit=”default” animation_type=”default” bg_image_animation=”none” border_type=”simple” column_border_width=”none” column_border_style=”solid”][nectar_btn size=”large” button_style=”regular-tilt” button_color=”Accent-Color” icon_family=”default_arrow” text=”Je m’inscris” margin_top=”13″ margin_bottom=”13″ margin_left=”25″ margin_right=”25″ url=”https://www.billetweb.fr/bilan-carbone-mode-demploi”][/vc_column][/vc_row]
URL:https://molokoi.com/evenement/bilan-carbone-mode-demploi/
LOCATION:En ligne
ATTACH;FMTTYPE=image/png:https://molokoi.com/wp-content/uploads/2025/05/Header-article-site-internet-7.png
END:VEVENT
END:VCALENDAR