BEGIN:VCALENDAR
VERSION:2.0
PRODID:-//Molokoï - ECPv6.15.16.1//NONSGML v1.0//EN
CALSCALE:GREGORIAN
METHOD:PUBLISH
X-WR-CALNAME:Molokoï
X-ORIGINAL-URL:https://molokoi.com
X-WR-CALDESC:Évènements pour Molokoï
REFRESH-INTERVAL;VALUE=DURATION:PT1H
X-Robots-Tag:noindex
X-PUBLISHED-TTL:PT1H
BEGIN:VTIMEZONE
TZID:America/Guadeloupe
BEGIN:STANDARD
TZOFFSETFROM:-0400
TZOFFSETTO:-0400
TZNAME:AST
DTSTART:20250101T000000
END:STANDARD
END:VTIMEZONE
BEGIN:VEVENT
DTSTART;TZID=America/Guadeloupe:20260211T090000
DTEND;TZID=America/Guadeloupe:20260211T100000
DTSTAMP:20260420T051731
CREATED:20260116T144808Z
LAST-MODIFIED:20260123T124718Z
UID:14670-1770800400-1770804000@molokoi.com
SUMMARY:WEBINAIRE - Démarche RSE : pourquoi et comment la mettre en place en entreprise ?
DESCRIPTION:Bien menée\, la démarche RSE fait la différence sur vos marchés et renforce l’engagement de vos équipes.Ce webinaire s’adresse aux entreprises qui veulent s’y mettre concrètement\, sans créer d’usine à gaz. \nUn temps pour passer de l’intention à l’action et connaître les leviers de financement. \n📆 Mercredi 11 février – 9h (heure de Guadeloupe)💻 En ligne – gratuit💬 Temps de questions/réponses
URL:https://molokoi.com/evenement/webinaire-rse/
ATTACH;FMTTYPE=image/png:https://molokoi.com/wp-content/uploads/2026/01/Capture-decran-2026-01-16-a-11.13.39.png
END:VEVENT
END:VCALENDAR