BEGIN:VCALENDAR
VERSION:2.0
PRODID:-//Molokoï - ECPv6.15.16.1//NONSGML v1.0//EN
CALSCALE:GREGORIAN
METHOD:PUBLISH
X-ORIGINAL-URL:https://molokoi.com
X-WR-CALDESC:Évènements pour Molokoï
REFRESH-INTERVAL;VALUE=DURATION:PT1H
X-Robots-Tag:noindex
X-PUBLISHED-TTL:PT1H
BEGIN:VTIMEZONE
TZID:America/Guadeloupe
BEGIN:STANDARD
TZOFFSETFROM:-0400
TZOFFSETTO:-0400
TZNAME:AST
DTSTART:20250101T000000
END:STANDARD
END:VTIMEZONE
BEGIN:VEVENT
DTSTART;TZID=America/Guadeloupe:20260304T133000
DTEND;TZID=America/Guadeloupe:20260304T163000
DTSTAMP:20260420T075018
CREATED:20231030T213823Z
LAST-MODIFIED:20260226T163625Z
UID:5168-1772631000-1772641800@molokoi.com
SUMMARY:Fresque de l'alimentation
DESCRIPTION:  \n\nViens découvrir la FRESQUE DE L’ALIMENTATION\n  \nUn serious game pour comprendre les impacts sanitaires\, sociaux et environnementaux de notre alimentation !\n\nApprendre en s’amusant\nDécrypter en 3h un enjeu majeur de notre planète\nS’engager collectivement et individuellement\n\nL’atelier s’adresse aux adultes de plus de 18 ans\, experts ou novices sur le sujet\, déjà engagés ou non vers une alimentation plus durable …Bref\, à quiconque souhaite comprendre ce qu’il.elle mange ! \nAu Pré Vert à Baie-Mahault. \nLe mercredi 4 Mars 2026 de 13h30 à 16h30. \nJe m’inscris maintenant !\nInscription obligatoire \nNB : L’atelier est dense\, nous vous recommandons d’arriver 10mn avant\, pour finir à l’heure prévue. \nPensez à covoiturer.
URL:https://molokoi.com/evenement/fresque-de-lalimentation/
LOCATION:Le Pré Vert\, GFA de Birmingham\, Baie-Mahault\, 97122\, Guadeloupe
CATEGORIES:Atelier
ATTACH;FMTTYPE=image/jpeg:https://molokoi.com/wp-content/uploads/2023/10/frek-event-2.jpg
END:VEVENT
END:VCALENDAR