BEGIN:VCALENDAR
VERSION:2.0
PRODID:-//Molokoï - ECPv6.15.20//NONSGML v1.0//EN
CALSCALE:GREGORIAN
METHOD:PUBLISH
X-WR-CALNAME:Molokoï
X-ORIGINAL-URL:https://molokoi.com
X-WR-CALDESC:Évènements pour Molokoï
REFRESH-INTERVAL;VALUE=DURATION:PT1H
X-Robots-Tag:noindex
X-PUBLISHED-TTL:PT1H
BEGIN:VTIMEZONE
TZID:America/Guadeloupe
BEGIN:STANDARD
TZOFFSETFROM:-0400
TZOFFSETTO:-0400
TZNAME:AST
DTSTART:20220101T000000
END:STANDARD
END:VTIMEZONE
BEGIN:VEVENT
DTSTART;TZID=America/Guadeloupe:20230422T090000
DTEND;TZID=America/Guadeloupe:20230422T120000
DTSTAMP:20260424T120656
CREATED:20230405T145739Z
LAST-MODIFIED:20230421T095332Z
UID:4623-1682154000-1682164800@molokoi.com
SUMMARY:Fresque du climat
DESCRIPTION:Le changement climatique : envie d’en savoir plus ? Deux options s’offrent à toi : \n1️⃣ Lire les +11 000 pages du rapport du GIEC 🫣\n2️⃣Jouer à la Fresque du Climat 😊 \nQue tu sois novice\, sceptique\, bien informé.e ou tout simplement curieux.se d’en savoir plus sur le sujet\, \n👊 inscris-toi à l’atelier de samedi 22 avril 2023 de 9h00 à 12h00 \nOù ? A la Médiathèque Caraïbe Bettino Lara à Basse-Terre. \n🌎 Parce qu’avant d’agir\, il faut comprendre.😉 \nEvénement organisé par la Médiathèque Caraïbe Bettino Lara à Basse-Terre. \nAtelier gratuit\, inscription obligatoire ci-dessous ou par téléphone au 05 90 99 37 49. \nPensez à covoiturer. \nAtelier réservé aux adultes.
URL:https://molokoi.com/evenement/4623/
LOCATION:Médiathèque Caraïbe Bettino Lara\, Rue Charles Houel\, Basse-Terre\, 97100\, Guadeloupe
END:VEVENT
END:VCALENDAR